BEGIN:VCALENDAR
VERSION:2.0
PRODID:-//Sydney - ECPv6.15.17.1//NONSGML v1.0//EN
CALSCALE:GREGORIAN
METHOD:PUBLISH
X-WR-CALNAME:Sydney
X-ORIGINAL-URL:https://acehotel.com/sydney
X-WR-CALDESC:Events for Sydney
REFRESH-INTERVAL;VALUE=DURATION:PT1H
X-Robots-Tag:noindex
X-PUBLISHED-TTL:PT1H
BEGIN:VTIMEZONE
TZID:UTC
BEGIN:STANDARD
TZOFFSETFROM:+0000
TZOFFSETTO:+0000
TZNAME:UTC
DTSTART:20250101T000000
END:STANDARD
END:VTIMEZONE
BEGIN:VEVENT
DTSTART;TZID=UTC:20260317T180000
DTEND;TZID=UTC:20260317T210000
DTSTAMP:20260419T102608
CREATED:20260303T030027Z
LAST-MODIFIED:20260303T030027Z
UID:14863-1773770400-1773781200@acehotel.com
SUMMARY:Tuesday Tour
DESCRIPTION:Kiln and DRNKS present the Tuesday Tour.\n\nMeet some of Australia’s most important importers and winemakers all in one space\, showing all their newest wines. An unbelievable opportunity to taste and meet with winemakers. Tickets are $30 and include all tastings. Stick around for a snack or dinner at Kiln if you choose. Following the event\, all wines will be available for purchase from DRNKS.COM.
URL:https://acehotel.com/sydney/going-on/tuesday-tour/
LOCATION:Kiln\, 47/53 Wentworth Ave\, Sydney\, NSW\, 2000\, Australia
CATEGORIES:Ace Hotel Sydney
ATTACH;FMTTYPE=image/jpeg:https://acehotel.com/sydney/wp-content/uploads/sites/13/2026/03/IMG_0307.jpeg
END:VEVENT
END:VCALENDAR